BEGIN:VCALENDAR
VERSION:2.0
PRODID:-//wp-events-plugin.com//7.2.3.1//EN
TZID:Europe/Amsterdam
X-WR-TIMEZONE:Europe/Amsterdam
BEGIN:VEVENT
UID:1500@ngk-amersfoort-zuid.nl
DTSTART;TZID=Europe/Amsterdam:20260630T193000
DTEND;TZID=Europe/Amsterdam:20260630T213000
DTSTAMP:20251230T122747Z
URL:https://ngk-amersfoort-zuid.nl/agenda/kring-zingend-mediteren-16
SUMMARY:Kring  Zingend  Mediteren
DESCRIPTION:We overdenken een bijbelgedeelte. Vooral zingen we veel.  Bij F
 am. Hoenderboom thuis. We bereiden het om de beurt voor.
CATEGORIES:Bijbelkring
LOCATION:na onderling overleg\, bij iemand thuis\, Amersfoort/Leusden\, Ned
 erland
X-APPLE-STRUCTURED-LOCATION;VALUE=URI;X-ADDRESS=bij iemand thuis\, Amersfoo
 rt/Leusden\, Nederland;X-APPLE-RADIUS=100;X-TITLE=na onderling overleg:geo
 :0,0
END:VEVENT
BEGIN:VTIMEZONE
TZID:Europe/Amsterdam
X-LIC-LOCATION:Europe/Amsterdam
BEGIN:DAYLIGHT
DTSTART:20260329T030000
TZOFFSETFROM:+0100
TZOFFSETTO:+0200
TZNAME:CEST
END:DAYLIGHT
END:VTIMEZONE
END:VCALENDAR